BEGIN:VCALENDAR
PRODID:-//hacksw/handcal//NONSGML v1.0//EN
VERSION:2.0
METHOD:PUBLISH
BEGIN:VEVENT
DTSTART:20240522T210000Z
DTEND:20240522T230000Z
LOCATION:Harrisburg Country Club 
UID:2596620240522T210000ZMember Happy Hour - Bring a guest 1/2 Price!
DTSTAMP:20260420T095500Z
DESCRIPTION:\nMember Networking Social! Join us for cocktails & hor d'oeuvres at theHarrisburg Country Club!\n \nNEW MEMBERS Joining now may attend the June Social for FREE!  \n \nIf you sponsor a new member - you may attend for FREE!\n \nNetworking is one of the unique aspects of the Estate Planning Council and enhances our local Estate Planning Community!  We would like to invite you to an extra Member Social! \n \nAll members are invited to attend!  Plus each member can bring a guest for 1/2 Price!\n \nSpace is limited.  Register today!\n
SUMMARY:Member Happy Hour - Bring a guest 1/2 Price! - The Estate Planning Council of Central Pennsylvania, Inc 
PRIORITY:3
BEGIN:VALARM
TRIGGER:PT18H
ACTION:DISPLAY
DESCRIPTION:Reminder
END:VALARM
END:VEVENT
END:VCALENDAR